BEGIN:VCALENDAR
VERSION:2.0
PRODID:-//Tukios.com/
BEGIN:VEVENT
UID:8deffae0-ce84-441a-bc1a-e053f4814d8b@www.vanoverfuneralhome.com
DTSTAMP:20260421T023448Z
DTSTART:20260425T140000Z
DTEND:20260425T150000Z
SUMMARY:Memorial Service
DESCRIPTION:
URL:https://www.vanoverfuneralhome.com/obituaries/shannon-teague
LOCATION: 9000 KY-132  Clay KY 42404
GEO:37.4776666;-87.8198526
END:VEVENT
END:VCALENDAR